BEGIN:VCALENDAR
VERSION:2.0
PRODID:icalendar-ruby
CALSCALE:GREGORIAN
METHOD:PUBLISH
BEGIN:VEVENT
DTSTAMP:20260425T130739Z
UID:26aface9-2aaa-4f73-be3e-d595402af294
DTSTART:20260608T153000
DTEND:20260608T163000
DESCRIPTION:Ontdek in dit webinar hoe steden kunnen verdichten met behoud v
 an erfgoed. De RCE presenteert de gereedschapskist erfgoedinclusief verdic
 hten met praktijkvoorbeelden uit Rotterdam.
SUMMARY:Webinar Stedelijke transformatie met erfgoed
END:VEVENT
END:VCALENDAR
