BEGIN:VCALENDAR
VERSION:2.0
PRODID:icalendar-ruby
CALSCALE:GREGORIAN
METHOD:PUBLISH
BEGIN:VEVENT
DTSTAMP:20260424T142529Z
UID:380960c1-8a9f-48cb-8d19-a48f819bbf84
DTSTART:20260526T150000
DTEND:20260526T161500
DESCRIPTION:Webinar over hoe vertrouwen ontstaat en werkt binnen stedelijke
  gebiedstransformaties. Met inzichten uit het essay &#39;Samenwerken aan vertr
 ouwen in gebiedstransformaties&#39; en praktijkvoorbeelden van publieke en pri
 vate partners. 
SUMMARY:Webinar Samenwerken aan vertrouwen in gebiedstransformaties
END:VEVENT
END:VCALENDAR
